BEGIN:VCALENDAR
VERSION:2.0
PRODID:-//eventon.com NONSGML v1.0//EN
CALSCALE:GREGORIAN
METHOD:PUBLISH
BEGIN:VEVENT
UID:69e5fb1357224
DTSTAMP:20260420T100819Z
DTSTART:20260417T071700Z
DTEND:20260418T131700Z
LOCATION:
SUMMARY:تدريب إقليم الجنوب - جامعة (الأردنية العقبة- مؤتة) حول "كتابة أوراق السياسات" مع المدرب خالد سليم، ضمن مشروع جيل التحديث.
DESCRIPTION:\nhttps://politicsociety.org/events/%d8%aa%d8%af%d8%b1%d9%8a%d8
 %a8-%d8%a5%d9%82%d9%84%d9%8a%d9%85-%d8%a7%d9%84%d8%ac%d9%86%d9%88%d8%a8-%d8
 %ac%d8%a7%d9%85%d8%b9%d8%a9-%d8%a7%d9%84%d8%a3%d8%b1%d8%af%d9%86%d9%8a%d8%a
 9-%d8%a7%d9%84%d8%b9/
URL:https://politicsociety.org/events/%d8%aa%d8%af%d8%b1%d9%8a%d8%a8-%d8%a5%d9%82%d9%84%d9%8a%d9%85-%d8%a7%d9%84%d8%ac%d9%86%d9%88%d8%a8-%d8%ac%d8%a7%d9%85%d8%b9%d8%a9-%d8%a7%d9%84%d8%a3%d8%b1%d8%af%d9%86%d9%8a%d8%a9-%d8%a7%d9%84%d8%b9/
END:VEVENT
END:VCALENDAR