BEGIN:VCALENDAR
VERSION:2.0
PRODID:-//eventon.com NONSGML v1.0//EN
CALSCALE:GREGORIAN
METHOD:PUBLISH
BEGIN:VEVENT
UID:69e5fb097a8d3
DTSTAMP:20260420T100809Z
DTSTART:20260417T070000Z
DTEND:20260418T130000Z
LOCATION:
SUMMARY:تدريب إقليم الشمال - جامعة (اليرموك والعلوم والتكنولوجيا) حول "مهارات التفاوض وحل النزاع" مع المدرب مراد القاضي، ضمن مشروع جيل التحديث.
DESCRIPTION:\nhttps://politicsociety.org/events/%d8%aa%d8%af%d8%b1%d9%8a%d8
 %a8-%d8%a5%d9%82%d9%84%d9%8a%d9%85-%d8%a7%d9%84%d8%b4%d9%85%d8%a7%d9%84-%d8
 %ac%d8%a7%d9%85%d8%b9%d8%a9-%d8%a7%d9%84%d9%8a%d8%b1%d9%85%d9%88%d9%83-%d9%
 88%d8%a7%d9%84%d8%b9/
URL:https://politicsociety.org/events/%d8%aa%d8%af%d8%b1%d9%8a%d8%a8-%d8%a5%d9%82%d9%84%d9%8a%d9%85-%d8%a7%d9%84%d8%b4%d9%85%d8%a7%d9%84-%d8%ac%d8%a7%d9%85%d8%b9%d8%a9-%d8%a7%d9%84%d9%8a%d8%b1%d9%85%d9%88%d9%83-%d9%88%d8%a7%d9%84%d8%b9/
END:VEVENT
END:VCALENDAR